BEGIN:VCALENDAR
VERSION:2.0
PRODID:-//Plone.org//NONSGML plone.app.event//EN
X-WR-TIMEZONE:US/Central
BEGIN:VEVENT
SUMMARY:Veteran's Day
DTSTART;VALUE=DATE:20191111
DTEND;VALUE=DATE:20191112
DTSTAMP:20260419T162206Z
UID:34122f159a3b4b0aac956bff16304045@saas_stack_varnish:6080
CONTACT:Vidor Public Library\, 409-769-7148
CREATED:20190613T200257Z
DESCRIPTION:The Vidor Public Library will be closed in observance of Veter
 an's Day.
LAST-MODIFIED:20190613T200301Z
LOCATION:Vidor Public Library
URL:https://vidor.ploud.net/veterans-day
END:VEVENT
END:VCALENDAR
