BEGIN:VCALENDAR
VERSION:2.0
PRODID:-//Plone.org//NONSGML plone.app.event//EN
X-WR-TIMEZONE:US/Central
BEGIN:VEVENT
SUMMARY:Thanksgiving
DTSTART;VALUE=DATE:20191128
DTEND;VALUE=DATE:20191130
DTSTAMP:20260419T161251Z
UID:f5bb2882ce574efd828b55cdedb05a6c@saas_stack_varnish:6080
CONTACT:Vidor Public Library\, 409-769-7148
CREATED:20190613T200651Z
DESCRIPTION:The Vidor Public Library will be closed on November 28 and 29 
 in observance of Thanksgiving.
LAST-MODIFIED:20190613T200655Z
LOCATION:Vidor Public Library
URL:https://vidor.ploud.net/thanksgiving
END:VEVENT
END:VCALENDAR
