BEGIN:VCALENDAR
VERSION:2.0
PRODID:-//Plone.org//NONSGML plone.app.event//EN
X-WR-TIMEZONE:US/Central
BEGIN:VEVENT
SUMMARY:Summer Reading: Young Audiences of Southeast Texas
DTSTART;TZID=US/Central:20190626T100000
DTEND;TZID=US/Central:20190626T110000
DTSTAMP:20260419T162352Z
UID:c060224dac744c6796d7f406dfcfabf8@saas_stack_varnish:6080
CONTACT:Vidor Public Library\, 409-769-7148
CREATED:20190613T182121Z
DESCRIPTION:Storyteller Dru Woods from Young Audiences of Southeast Texas 
 will be presenting a program on Wednesday\, June 26\, 2019.
LAST-MODIFIED:20190613T182146Z
LOCATION:Our Lady of Lourdes Parish Hall
URL:https://vidor.ploud.net/summer-reading-young-audiences-of-southeast-te
 xas
END:VEVENT
BEGIN:VTIMEZONE
TZID:US/Central
X-LIC-LOCATION:US/Central
BEGIN:DAYLIGHT
DTSTART:20190310T030000
TZNAME:CDT
TZOFFSETFROM:-0600
TZOFFSETTO:-0500
END:DAYLIGHT
END:VTIMEZONE
END:VCALENDAR
