BEGIN:VCALENDAR
VERSION:2.0
PRODID:-//Plone.org//NONSGML plone.app.event//EN
X-WR-TIMEZONE:US/Central
BEGIN:VEVENT
SUMMARY:Summer Reading: Soil and Water Conservation
DTSTART;TZID=US/Central:20190619T100000
DTEND;TZID=US/Central:20190619T110000
DTSTAMP:20260419T163314Z
UID:58813957cf9d465ebbc3873bfdfedd4a@saas_stack_varnish:6080
CONTACT:Vidor Public Library\, 409-769-7148
CREATED:20190613T181510Z
DESCRIPTION:Summer Reading guest will be from the Lower Sabine Neches Soil
  and Water Conservation District #446 on Wednesday\, June 19\, 2019.
LAST-MODIFIED:20190613T181557Z
LOCATION:Our Lady of Lourdes Parish Hall
URL:https://vidor.ploud.net/summer-reading-soil-and-water-conservation
END:VEVENT
BEGIN:VTIMEZONE
TZID:US/Central
X-LIC-LOCATION:US/Central
BEGIN:DAYLIGHT
DTSTART:20190310T030000
TZNAME:CDT
TZOFFSETFROM:-0600
TZOFFSETTO:-0500
END:DAYLIGHT
END:VTIMEZONE
END:VCALENDAR
