BEGIN:VCALENDAR
VERSION:2.0
PRODID:-//Plone.org//NONSGML plone.app.event//EN
X-WR-TIMEZONE:US/Central
BEGIN:VEVENT
SUMMARY:Summer Reading: Science Tellers
DTSTART;TZID=US/Central:20190703T100000
DTEND;TZID=US/Central:20190703T110000
DTSTAMP:20260419T163440Z
UID:be2e65889d2f42f9bc077f9e3ec2d3f7@saas_stack_varnish:6080
CONTACT:Vidor Public Library\, 409-769-7148
CREATED:20190613T184734Z
DESCRIPTION:For this program\, The Science Tellers will be presenting thei
 r story for the summer\, "Aliens: Escape From Earth" featuring interactive
  science experiments.
LAST-MODIFIED:20190613T184740Z
LOCATION:Our Lady of Lourdes Parish Hall
URL:https://vidor.ploud.net/summer-reading-science-tellers
END:VEVENT
BEGIN:VTIMEZONE
TZID:US/Central
X-LIC-LOCATION:US/Central
BEGIN:DAYLIGHT
DTSTART:20190310T030000
TZNAME:CDT
TZOFFSETFROM:-0600
TZOFFSETTO:-0500
END:DAYLIGHT
END:VTIMEZONE
END:VCALENDAR
