BEGIN:VCALENDAR
VERSION:2.0
PRODID:-//Plone.org//NONSGML plone.app.event//EN
X-WR-TIMEZONE:US/Central
BEGIN:VEVENT
SUMMARY:Labor Day
DTSTART;VALUE=DATE:20190902
DTEND;VALUE=DATE:20190903
DTSTAMP:20260419T161258Z
UID:7e784adcc918411fa7de49ed72f355cd@saas_stack_varnish:6080
CONTACT:Vidor Public Library\, 409-769-7148
CREATED:20190613T195817Z
DESCRIPTION:The Vidor Public Library will be closed in observance of Labor
  Day.
LAST-MODIFIED:20190613T195822Z
LOCATION:Vidor Public Library
URL:https://vidor.ploud.net/labor-day
END:VEVENT
END:VCALENDAR
