BEGIN:VCALENDAR
VERSION:2.0
PRODID:-//Plone.org//NONSGML plone.app.event//EN
X-WR-TIMEZONE:US/Central
BEGIN:VEVENT
SUMMARY:Independence Day
DTSTART;VALUE=DATE:20190704
DTEND;VALUE=DATE:20190705
DTSTAMP:20260419T161259Z
UID:f804d8594360461b854a368b471489f2@saas_stack_varnish:6080
CONTACT:Vidor Public Library\, 409-769-7148
CREATED:20190613T195301Z
DESCRIPTION:The Vidor Public Library will be closed in observance of Indep
 endence Day.
LAST-MODIFIED:20190613T195358Z
LOCATION:Vidor Public Library
URL:https://vidor.ploud.net/independence-day
END:VEVENT
END:VCALENDAR
