BEGIN:VCALENDAR
VERSION:2.0
PRODID:-//Plone.org//NONSGML plone.app.event//EN
X-WR-TIMEZONE:US/Central
BEGIN:VEVENT
SUMMARY:Christmas Eve/Christmas Day
DTSTART;VALUE=DATE:20191224
DTEND;VALUE=DATE:20191226
DTSTAMP:20260419T164053Z
UID:3e3ff3745087435fa3150a8e44418690@saas_stack_varnish:6080
CONTACT:Vidor Public Library\, 409-769-7148
CREATED:20190613T200837Z
DESCRIPTION:The Vidor Public Library will be closed on Christmas Eve and C
 hristmas Day.
LAST-MODIFIED:20190613T200841Z
LOCATION:Vidor Public Library
URL:https://vidor.ploud.net/christmas-eve-christmas-day
END:VEVENT
END:VCALENDAR
